BEGIN:VCALENDAR
VERSION:2.0
PRODID:-//by Patti Hartigan - ECPv6.2.0.1//NONSGML v1.0//EN
CALSCALE:GREGORIAN
METHOD:PUBLISH
X-ORIGINAL-URL:https://pattihartigan.com
X-WR-CALDESC:Events for by Patti Hartigan
REFRESH-INTERVAL;VALUE=DURATION:PT1H
X-Robots-Tag:noindex
X-PUBLISHED-TTL:PT1H
BEGIN:VTIMEZONE
TZID:UTC
BEGIN:STANDARD
TZOFFSETFROM:+0000
TZOFFSETTO:+0000
TZNAME:UTC
DTSTART:20230101T000000
END:STANDARD
END:VTIMEZONE
BEGIN:VEVENT
DTSTART;VALUE=DATE:20230907
DTEND;VALUE=DATE:20230908
DTSTAMP:20260422T094846
CREATED:20230617T020620Z
LAST-MODIFIED:20230902T212059Z
UID:1421-1694044800-1694131199@pattihartigan.com
SUMMARY:Mark Twain House\, conversation with Taneisha Duggan. Virtual\, noon
DESCRIPTION:
URL:https://pattihartigan.com/event/mark-twain-house-virtual-reading-time-tba/
LOCATION:Mark Twain House\, 351 Farmington Ave.\, Hartford\, CT\, 06105
END:VEVENT
END:VCALENDAR