BEGIN:VCALENDAR
VERSION:2.0
PRODID:-//by Patti Hartigan - ECPv6.2.0.1//NONSGML v1.0//EN
CALSCALE:GREGORIAN
METHOD:PUBLISH
X-WR-CALNAME:by Patti Hartigan
X-ORIGINAL-URL:https://pattihartigan.com
X-WR-CALDESC:Events for by Patti Hartigan
REFRESH-INTERVAL;VALUE=DURATION:PT1H
X-Robots-Tag:noindex
X-PUBLISHED-TTL:PT1H
BEGIN:VTIMEZONE
TZID:UTC
BEGIN:STANDARD
TZOFFSETFROM:+0000
TZOFFSETTO:+0000
TZNAME:UTC
DTSTART:20230101T000000
END:STANDARD
END:VTIMEZONE
BEGIN:VEVENT
DTSTART;TZID=UTC:20230912T170000
DTEND;TZID=UTC:20230912T190000
DTSTAMP:20260420T171354
CREATED:20230905T224524Z
LAST-MODIFIED:20230905T224524Z
UID:1976-1694538000-1694545200@pattihartigan.com
SUMMARY:Busboys and Poets\, Washington\, DC\, reading and signing\, 5 pm to 7 pm.
DESCRIPTION:
URL:https://pattihartigan.com/event/busboys-and-poets-washington-dc-reading-and-signing-5-pm-to-7-pm/
LOCATION:Busboys and Poets\, 2021 14th Street\, Washington\, District of Columbia\, 20009
END:VEVENT
END:VCALENDAR