BEGIN:VCALENDAR
VERSION:2.0
PRODID:-//by Patti Hartigan - ECPv6.2.0.1//NONSGML v1.0//EN
CALSCALE:GREGORIAN
METHOD:PUBLISH
X-ORIGINAL-URL:https://pattihartigan.com
X-WR-CALDESC:Events for by Patti Hartigan
REFRESH-INTERVAL;VALUE=DURATION:PT1H
X-Robots-Tag:noindex
X-PUBLISHED-TTL:PT1H
BEGIN:VTIMEZONE
TZID:UTC
BEGIN:STANDARD
TZOFFSETFROM:+0000
TZOFFSETTO:+0000
TZNAME:UTC
DTSTART:20230101T000000
END:STANDARD
END:VTIMEZONE
BEGIN:VEVENT
DTSTART;TZID=UTC:20231009T130000
DTEND;TZID=UTC:20231009T140000
DTSTAMP:20260420T155328
CREATED:20230914T200741Z
LAST-MODIFIED:20230928T213130Z
UID:1984-1696856400-1696860000@pattihartigan.com
SUMMARY:Huntington Theatre\, a conversation with Front Porch Arts Collective Co-Artistic Director Maurice Emmanuel Parent (and a special musical guest)\, 1 p.m. in the Michael Maso Theatre.
DESCRIPTION:
URL:https://pattihartigan.com/event/huntington-theatre-a-conversation-with-maurice-emmanuel-parent-and-a-special-musical-guest-1-p-m-in-the-michael-maso-theatre/
LOCATION:Huntington Theatre Company\, 264 Huntington Avenue\, Boston\, 02115
END:VEVENT
END:VCALENDAR