BEGIN:VCALENDAR
VERSION:2.0
PRODID:-//by Patti Hartigan - ECPv6.2.0.1//NONSGML v1.0//EN
CALSCALE:GREGORIAN
METHOD:PUBLISH
X-WR-CALNAME:by Patti Hartigan
X-ORIGINAL-URL:https://pattihartigan.com
X-WR-CALDESC:Events for by Patti Hartigan
REFRESH-INTERVAL;VALUE=DURATION:PT1H
X-Robots-Tag:noindex
X-PUBLISHED-TTL:PT1H
BEGIN:VTIMEZONE
TZID:UTC
BEGIN:STANDARD
TZOFFSETFROM:+0000
TZOFFSETTO:+0000
TZNAME:UTC
DTSTART:20230101T000000
END:STANDARD
END:VTIMEZONE
BEGIN:VEVENT
DTSTART;TZID=UTC:20231012T080000
DTEND;TZID=UTC:20231012T170000
DTSTAMP:20260422T084515
CREATED:20230804T145543Z
LAST-MODIFIED:20230914T200114Z
UID:1948-1697097600-1697130000@pattihartigan.com
SUMMARY:Frank Loomis Palmer Ampitheater\, Hygenic Art Park\, author reading and signing\, with a special presentation by A. Vincent Scarano\, official photographer of the Eugene O'Neill Theater Center.  6 p.m.
DESCRIPTION:
URL:https://pattihartigan.com/event/hygenic-art-reading-time-tba/
LOCATION:Hygenic Art Park\, 79 Bank Street\, New London\, Connecticut\, 06320
END:VEVENT
END:VCALENDAR