BEGIN:VCALENDAR
VERSION:2.0
PRODID:-//by Patti Hartigan - ECPv6.2.0.1//NONSGML v1.0//EN
CALSCALE:GREGORIAN
METHOD:PUBLISH
X-WR-CALNAME:by Patti Hartigan
X-ORIGINAL-URL:https://pattihartigan.com
X-WR-CALDESC:Events for by Patti Hartigan
REFRESH-INTERVAL;VALUE=DURATION:PT1H
X-Robots-Tag:noindex
X-PUBLISHED-TTL:PT1H
BEGIN:VTIMEZONE
TZID:UTC
BEGIN:STANDARD
TZOFFSETFROM:+0000
TZOFFSETTO:+0000
TZNAME:UTC
DTSTART:20230101T000000
END:STANDARD
END:VTIMEZONE
BEGIN:VEVENT
DTSTART;VALUE=DATE:20230815
DTEND;VALUE=DATE:20230816
DTSTAMP:20260421T014236
CREATED:20230617T020058Z
LAST-MODIFIED:20230728T155412Z
UID:1416-1692057600-1692143999@pattihartigan.com
SUMMARY:Harvard Book Store\, reading and signing\, 7 p.m.
DESCRIPTION:
URL:https://pattihartigan.com/event/new-york-and-boston-signings-and-readings-tba/
LOCATION:Harvard Book Store\, 1256 Massachusetts Avenue\, Cambridge\, MA\, 02138\, United States
END:VEVENT
BEGIN:VEVENT
DTSTART;VALUE=DATE:20230815
DTEND;VALUE=DATE:20230816
DTSTAMP:20260421T014236
CREATED:20230617T015932Z
LAST-MODIFIED:20230617T015932Z
UID:1414-1692057600-1692143999@pattihartigan.com
SUMMARY:Official publication day.
DESCRIPTION:
URL:https://pattihartigan.com/event/official-publication-day/
LOCATION:02115
END:VEVENT
BEGIN:VEVENT
DTSTART;TZID=UTC:20230812T123000
DTEND;TZID=UTC:20230812T140000
DTSTAMP:20260421T014236
CREATED:20230617T015550Z
LAST-MODIFIED:20230728T195345Z
UID:1410-1691843400-1691848800@pattihartigan.com
SUMMARY:Shakespeare & Company\, reception\, signing\, and talkback after Fences. 12:30 p.m.\, Fences at 2 p.m.
DESCRIPTION:
URL:https://pattihartigan.com/event/talkback-and-signing-after-2-p-m-production-of-fences/
LOCATION:Shakespeare and Company\, 70 Kemble St.\, Lenox\, MA
END:VEVENT
END:VCALENDAR