BEGIN:VCALENDAR
VERSION:2.0
PRODID:-//by Patti Hartigan - ECPv6.2.0.1//NONSGML v1.0//EN
CALSCALE:GREGORIAN
METHOD:PUBLISH
X-ORIGINAL-URL:https://pattihartigan.com
X-WR-CALDESC:Events for by Patti Hartigan
REFRESH-INTERVAL;VALUE=DURATION:PT1H
X-Robots-Tag:noindex
X-PUBLISHED-TTL:PT1H
BEGIN:VTIMEZONE
TZID:UTC
BEGIN:STANDARD
TZOFFSETFROM:+0000
TZOFFSETTO:+0000
TZNAME:UTC
DTSTART:20230101T000000
END:STANDARD
END:VTIMEZONE
BEGIN:VEVENT
DTSTART;TZID=UTC:20231012T080000
DTEND;TZID=UTC:20231012T170000
DTSTAMP:20260420T175822
CREATED:20230804T145543Z
LAST-MODIFIED:20230914T200114Z
UID:1948-1697097600-1697130000@pattihartigan.com
SUMMARY:Frank Loomis Palmer Ampitheater\, Hygenic Art Park\, author reading and signing\, with a special presentation by A. Vincent Scarano\, official photographer of the Eugene O'Neill Theater Center.  6 p.m.
DESCRIPTION:
URL:https://pattihartigan.com/event/hygenic-art-reading-time-tba/
LOCATION:Hygenic Art Park\, 79 Bank Street\, New London\, Connecticut\, 06320
END:VEVENT
BEGIN:VEVENT
DTSTART;VALUE=DATE:20231014
DTEND;VALUE=DATE:20231015
DTSTAMP:20260420T175822
CREATED:20230728T200639Z
LAST-MODIFIED:20230905T224725Z
UID:1917-1697241600-1697327999@pattihartigan.com
SUMMARY:Boston Book Festival\, panel discussion\, "Cultural Histories: Twentieth Century Lives in the Arts\," noon to 1 pm.
DESCRIPTION:
URL:https://pattihartigan.com/event/boston-book-festival-tba/
LOCATION:Copley Square\, Boston\, MA\, United States
END:VEVENT
BEGIN:VEVENT
DTSTART;VALUE=DATE:20231030
DTEND;VALUE=DATE:20231031
DTSTAMP:20260420T175822
CREATED:20230617T020326Z
LAST-MODIFIED:20230902T211234Z
UID:1418-1698624000-1698710399@pattihartigan.com
SUMMARY:The American Writer’s Museum\, conversation with J. Nicole Brooks\, virtual\, 6 p.m. CDT
DESCRIPTION:
URL:https://pattihartigan.com/event/the-american-writers-museum-time-tba/
LOCATION:The American Writer’s Museum\, 180 N Michigan Ave\, Chicago\, IL
END:VEVENT
BEGIN:VEVENT
DTSTART;VALUE=DATE:20231105
DTEND;VALUE=DATE:20231106
DTSTAMP:20260420T175822
CREATED:20230617T021027Z
LAST-MODIFIED:20230902T212704Z
UID:1424-1699142400-1699228799@pattihartigan.com
SUMMARY:New Dominion Bookstore\, reading and conversation with director Leslie M. Scott-Jones. 2 p.m.
DESCRIPTION:
URL:https://pattihartigan.com/event/reading-and-conversation-with-director-leslie-scott-jones/
LOCATION:New Dominion Bookstore\, 404 E Main St.\, Charlottesville\, VA\, 22902
END:VEVENT
BEGIN:VEVENT
DTSTART;TZID=UTC:20231205T193000
DTEND;TZID=UTC:20231205T193000
DTSTAMP:20260420T175822
CREATED:20230730T191147Z
LAST-MODIFIED:20230902T212856Z
UID:1924-1701804600-1701804600@pattihartigan.com
SUMMARY:The Drama Book Shop\, reading and signing\, 7:30 p.m.
DESCRIPTION:
URL:https://pattihartigan.com/event/the-drama-book-shop-reading-and-signing-730-p-m/
LOCATION:The Drama Book Shop\, 266 W 39th Street\, New York\, NY\, 10018
END:VEVENT
BEGIN:VEVENT
DTSTART;TZID=UTC:20231206T080000
DTEND;TZID=UTC:20231206T170000
DTSTAMP:20260420T175822
CREATED:20230804T145830Z
LAST-MODIFIED:20230804T145830Z
UID:1952-1701849600-1701882000@pattihartigan.com
SUMMARY:Rye Free Reading Room\, reading\, 7 p.m.
DESCRIPTION:
URL:https://pattihartigan.com/event/rye-free-reading-room-reading-7-p-m/
LOCATION:Rye Free Reading Room\, 1061 Boston Post Road\, Rye\, NY\, 10580
END:VEVENT
END:VCALENDAR